Workbook

Sheet Premissas_Baseline
A1: BP Template
A2: Premissas
A4: Business Model | B4: Valor / %
A5: Subscription | B5: 2000
A7: Conversão sobre GMV | B7: Mês 1 | C7: Mês 2 | D7: Mês 3 | E7: Mês 4 | F7: Mês 5 | G7: Mês 6 | H7: Mês 7 | I7: Mês 8 | J7: Mês 9 | K7: Mês 10 | L7: Mês 11 | M7: Mês 12 | N7: Mês 13 | O7: Mês 14 | P7: Mês 15 | Q7: Mês 16 | R7: Mês 17 | S7: Mês 18 | T7: Mês 19 | U7: Mês 20 | V7: Mês 21 | W7: Mês 22 | X7: Mês 23 | Y7: Mês 24
A8: Aproveitamento | B8: 0 | C8: 0 | D8: 0 | E8: 0 | F8: 0.025 | G8: 0.025 | H8: 0.025 | I8: 0.05 | J8: 0.05 | K8: 0.05 | L8: 0.075 | M8: 0.075 | N8: 0.1 | O8: 0.1 | P8: 0.125 | Q8: 0.125 | R8: 0.15 | S8: 0.15 | T8: 0.175 | U8: 0.175 | V8: 0.2 | W8: 0.2 | X8: 0.2 | Y8: 0.2
A10: Curva de Clientes | B10: Mês 1 | C10: Mês 2 | D10: Mês 3 | E10: Mês 4 | F10: Mês 5 | G10: Mês 6 | H10: Mês 7 | I10: Mês 8 | J10: Mês 9 | K10: Mês 10 | L10: Mês 11 | M10: Mês 12 | N10: Mês 13 | O10: Mês 14 | P10: Mês 15 | Q10: Mês 16 | R10: Mês 17 | S10: Mês 18 | T10: Mês 19 | U10: Mês 20 | V10: Mês 21 | W10: Mês 22 | X10: Mês 23 | Y10: Mês 24
A11: Novos | B11: 0 | C11: 10 | D11: 10 | E11: 10 | F11: 10 | G11: 10 | H11: 10 | I11: 10 | J11: 10 | K11: 10 | L11: 10 | M11: 10 | N11: 12 | O11: 12 | P11: 12 | Q11: 14 | R11: 14 | S11: 14 | T11: 16 | U11: 16 | V11: 16 | W11: 16 | X11: 16 | Y11: 16
A12: Acumulados | B12: 16 | C12: =C11+B12-ROUNDUP((B12*$B$28),0) -> 25 | D12: =D11+C12-ROUNDUP((C12*$B$28),0) -> 34 | E12: =E11+D12-ROUNDUP((D12*$B$28),0) -> 42 | F12: =F11+E12-ROUNDUP((E12*$B$28),0) -> 50 | G12: =G11+F12-ROUNDUP((F12*$B$28),0) -> 58 | H12: =H11+G12-ROUNDUP((G12*$B$28),0) -> 66 | I12: =I11+H12-ROUNDUP((H12*$B$28),0) -> 74 | J12: =J11+I12-ROUNDUP((I12*$B$28),0) -> 81 | ... Y12: =Y11+X12-ROUNDUP((X12*$B$28),0) -> 215
A13: GMV "Novo" | B13: =B11*$B$17 -> 0 | C13: =C11*$B$17 -> 15000000 | D13: =D11*$B$17 -> 15000000 | E13: =E11*$B$17 -> 15000000 | F13: =F11*$B$17 -> 15000000 | G13: =G11*$B$17 -> 15000000 | H13: =H11*$B$17 -> 15000000 | I13: =I11*$B$17 -> 15000000 | ... Y13: =Y11*$B$17 -> 24000000
A14: GMV "Acumulado" | B14: 10000000 | C14: =((C12-$B$12)*$B$17)+$B$14 -> 23500000 | D14: =((D12-$B$12)*$B$17)+$B$14 -> 37000000 | E14: =((E12-$B$12)*$B$17)+$B$14 -> 49000000 | F14: =((F12-$B$12)*$B$17)+$B$14 -> 61000000 | G14: =((G12-$B$12)*$B$17)+$B$14 -> 73000000 | H14: =((H12-$B$12)*$B$17)+$B$14 -> 85000000 | I14: =((I12-$B$12)*$B$17)+$B$14 -> 97000000 | J14: =((J12-$B$12)*$B$17)+$B$14 -> 107500000 | ... Y14: =((Y12-$B$12)*$B$17)+$B$14 -> 308500000
A16: Público-Alvo | B16: Valor / %
A17: Produção Média | B17: 1500000
A19: Marketing e Vendas | B19: Mês 1 | C19: Mês 2 | D19: Mês 3 | E19: Mês 4 | F19: Mês 5 | G19: Mês 6 | H19: Mês 7 | I19: Mês 8 | J19: Mês 9 | K19: Mês 10 | L19: Mês 11 | M19: Mês 12 | N19: Mês 13 | O19: Mês 14 | P19: Mês 15 | Q19: Mês 16 | R19: Mês 17 | S19: Mês 18 | T19: Mês 19 | U19: Mês 20 | V19: Mês 21 | W19: Mês 22 | X19: Mês 23 | Y19: Mês 24
A20: Outbound | B20: =$B$25 -> 15000 | C20: =B20+(B20*$B$24) -> 15750 | D20: =C20+(C20*$B$24) -> 16537.5 | E20: =D20+(D20*$B$24) -> 17364.375 | F20: =E20+(E20*$B$24) -> 18232.594 | G20: =F20+(F20*$B$24) -> 19144.223 | H20: =G20+(G20*$B$24) -> 20101.435 | I20: =H20+(H20*$B$24) -> 21106.506 | J20: =I20+(I20*$B$24) -> 22161.832 | ... Y20: =X20+(X20*$B$24) -> 46072.856
A21: Campanhas | B21: 0 | C21: 0 | D21: 0 | E21: 0 | F21: =F8*F14*$B$26 -> 18300 | G21: =G8*G14*$B$26 -> 21900 | H21: =H8*H14*$B$26 -> 25500 | I21: =I8*I14*$B$26 -> 58200 | J21: =J8*J14*$B$26 -> 64500 | K21: =K8*K14*$B$26 -> 70800 | L21: =L8*L14*$B$26 -> 115650 | M21: =M8*M14*$B$26 -> 125100 | ... Y21: =Y8*Y14*$B$26 -> 740400
A23: Fluxo de Caixa | B23: Valor / %
A24: Cresc. de Invest. Mkt | B24: 0.05
A25: Investimento em Mkt | B25: 15000
A26: Campanhas | B26: 0.012 | C26: sobre comissão de produção
A27: CAC | B27: 500
A28: Churn | B28: 0.03
A29: Comissão sobre Vendas | B29: 0.05 | C29: equipe interna
A30: Comissão sobre Produção | B30: 0.12
A31: Repasse p/ Terceiros | B31: 0.09
A32: Inadimplência | B32: 0
A33: Imposto sobre Receita | B33: =5%+9.65% -> 0.1465
A34: Servidor AWS | B34: 5100 | C34: =B34+(($B$34/$B$12)*C11*30%) -> 6056.25 | D34: =C34+(($B$34/$B$12)*D11*30%) -> 7012.5 | E34: =D34+(($B$34/$B$12)*E11*30%) -> 7968.75 | F34: =E34+(($B$34/$B$12)*F11*30%) -> 8925 | G34: =F34+(($B$34/$B$12)*G11*30%) -> 9881.25 | H34: =G34+(($B$34/$B$12)*H11*30%) -> 10837.5 | I34: =H34+(($B$34/$B$12)*I11*30%) -> 11793.75 | J34: =I34+(($B$34/$B$12)*J11*30%) -> 12750 | ... Y34: =X34+(($B$34/$B$12)*Y11*30%) -> 32257.5
A35: Cresc. de Custos AWS | B35: 0.018
A36: Aporte investidor | B36: 3000000
A37: IRPJ | B37: 0.34
A39: Serviços Terceirizados | B39: Valor / %
A40: Assessoria Contábil | B40: 8000
A41: Assessoria Jurídica | B41: 8000
A42: Consultoria TI | B42: 10000
A43: Serviços Gerais (Limpeza) | B43: 100 | C43: por HC
A45: Pessoas | B45: Valor / %
A46: Encargos | B46: Valor / %
A47: FGTS | B47: 0.08
A48: INSS | B48: 0.2 | C48: faturamento
...

Sheet DRE_Baseline
A1: BP Template
A2: Demonstrativo do Resultado do Exercício | B2: Mês 1 | C2: Mês 2 | D2: Mês 3 | E2: Mês 4 | F2: Mês 5 | G2: Mês 6 | H2: Mês 7 | I2: Mês 8 | J2: Mês 9 | K2: Mês 10 | L2: Mês 11 | M2: Mês 12 | N2: Mês 13 | O2: Mês 14 | P2: Mês 15 | Q2: Mês 16 | R2: Mês 17 | S2: Mês 18 | T2: Mês 19 | U2: Mês 20 | V2: Mês 21 | W2: Mês 22 | X2: Mês 23 | Y2: Mês 24 | AA2: Ano 1 | AC2: Ano 2 | AE2: Ano3 | AG2: Ano 4 | AI2: Ano 5
A4: (=) Receita Bruta | B4: =SUM(B5:B7) -> 32000 | C4: =SUM(C5:C7) -> 50000 | D4: =SUM(D5:D7) -> 68000 | E4: =SUM(E5:E7) -> 84000 | F4: =SUM(F5:F7) -> 283000 | G4: =SUM(G5:G7) -> 353300 | H4: =SUM(H5:H7) -> 408900 | I4: =SUM(I5:I7) -> 755500 | ... Y4: =SUM(Y5:Y7) -> 8542000 | AA4: =SUM(B4:M4) -> 6836350 | AC4: =SUM(N4:Y4) -> 63233150 | AE4: =AE5+AE6+AE7 -> 119756385 | AG4: =AG5+AG6+AG7 -> 1.7963458e+08 | AI4: =AI5+AI6+AI7 -> 2.3352495e+08
A5: (+) Subscription | B5: =Premissas_Baseline!B12*Premissas_Baseline!$B$5 -> 32000 | C5: =Premissas_Baseline!C12*Premissas_Baseline!$B$5 -> 50000 | D5: =Premissas_Baseline!D12*Premissas_Baseline!$B$5 -> 68000 | E5: =Premissas_Baseline!E12*Premissas_Baseline!$B$5 -> 84000 | F5: =Premissas_Baseline!F12*Premissas_Baseline!$B$5 -> 100000 | G5: =Premissas_Baseline!G12*Premissas_Baseline!$B$5 -> 116000 | H5: =Premissas_Baseline!H12*Premissas_Baseline!$B$5 -> 132000 | I5: =Premissas_Baseline!I12*Premissas_Baseline!$B$5 -> 148000 | ... Y5: =Premissas_Baseline!Y12*Premissas_Baseline!$B$5 -> 430000 | AA5: =SUM(B5:M5) -> 1462000 | AC5: =SUM(N5:Y5) -> 3866000 | AE5: =AC5*(1+80%) -> 6958800 | AG5: =AE5*(1+50%) -> 10438200 | AI5: =AG5*(1+30%) -> 13569660
A6: (+) Comissão sobre GMV | B6: =Premissas_Baseline!B14*Premissas_Baseline!B8*Premissas_Baseline!$B$30 -> 0 | C6: =Premissas_Baseline!C14*Premissas_Baseline!C8*Premissas_Baseline!$B$30 -> 0 | D6: =Premissas_Baseline!D14*Premissas_Baseline!D8*Premissas_Baseline!$B$30 -> 0 | E6: =Premissas_Baseline!E14*Premissas_Baseline!E8*Premissas_Baseline!$B$30 -> 0 | F6: =Premissas_Baseline!F14*Premissas_Baseline!F8*Premissas_Baseline!$B$30 -> 183000 | G6: =Premissas_Baseline!G14*Premissas_Baseline!G8*Premissas_Baseline!$B$30 -> 219000 | H6: =Premissas_Baseline!H14*Premissas_Baseline!H8*Premissas_Baseline!$B$30 -> 255000 | I6: =Premissas_Baseline!I14*Premissas_Baseline!I8*Premissas_Baseline!$B$30 -> 582000 | ... Y6: =Premissas_Baseline!Y14*Premissas_Baseline!Y8*Premissas_Baseline!$B$30 -> 7404000 | AA6: =SUM(B6:M6) -> 4999500 | AC6: =SUM(N6:Y6) -> 54529500 | AE6: =AC6*(1+90%) -> 103606050 | AG6: =AE6*(1+50%) -> 155409075 | AI6: =AG6*(1+30%) -> 2.020318e+08
A7: (+) Outros Produtos | B7: =10%*(B6) -> 0 | C7: =10%*(C6) -> 0 | D7: =10%*(D6) -> 0 | E7: =10%*(E6) -> 0 | F7: 0 | G7: =F6*10% -> 18300 | H7: =G6*10% -> 21900 | I7: =H6*10% -> 25500 | J7: =I6*10% -> 58200 | K7: =J6*10% -> 64500 | L7: =K6*10% -> 70800 | M7: =L6*10% -> 115650 | N7: =M6*10% -> 125100 | ... Y7: =X6*10% -> 708000 | AA7: =SUM(B7:M7) -> 374850 | AC7: =SUM(N7:Y7) -> 4837650 | AE7: =AC7*(1+90%) -> 9191535 | AG7: =AE7*(1+50%) -> 13787302 | AI7: =AG7*(1+30%) -> 17923493
A8: (-) Inadimplência | B8: =B4*Premissas_Baseline!$B$32 -> 0 | C8: =C4*Premissas_Baseline!$B$32 -> 0 | D8: =D4*Premissas_Baseline!$B$32 -> 0 | E8: =E4*Premissas_Baseline!$B$32 -> 0 | F8: =F4*Premissas_Baseline!$B$32 -> 0 | G8: =G4*Premissas_Baseline!$B$32 -> 0 | H8: =H4*Premissas_Baseline!$B$32 -> 0 | I8: =I4*Premissas_Baseline!$B$32 -> 0 | ... Y8: =Y4*Premissas_Baseline!$B$32 -> 0 | AA8: =SUM(B8:M8) -> 0 | AC8: =SUM(N8:Y8) -> 0 | AE8: =SUM(O8:Z8) -> 0 | AG8: =SUM(P8:AA8) -> 0 | AI8: =SUM(Q8:AC8) -> 0
A9: (-) Impostos sobre Receita | B9: =B4*Premissas_Baseline!$B$33 -> 4688 | C9: =C4*Premissas_Baseline!$B$33 -> 7325 | D9: =D4*Premissas_Baseline!$B$33 -> 9962 | E9: =E4*Premissas_Baseline!$B$33 -> 12306 | F9: =F4*Premissas_Baseline!$B$33 -> 41459.5 | G9: =G4*Premissas_Baseline!$B$33 -> 51758.45 | H9: =H4*Premissas_Baseline!$B$33 -> 59903.85 | I9: =I4*Premissas_Baseline!$B$33 -> 110680.75 | ... Y9: =Y4*Premissas_Baseline!$B$33 -> 1251403 | AA9: =SUM(B9:M9) -> 1001525.3 | AC9: =SUM(N9:Y9) -> 9263656.5 | AE9: =AC9/AC4*AE4 -> 17544310 | AG9: =AE9/AE4*AG4 -> 26316466 | AI9: =AG9/AG4*AI4 -> 34211405
A10: (=) Receita Líquida | B10: =B4-B8-B9 -> 27312 | C10: =C4-C8-C9 -> 42675 | D10: =D4-D8-D9 -> 58038 | E10: =E4-E8-E9 -> 71694 | F10: =F4-F8-F9 -> 241540.5 | G10: =G4-G8-G9 -> 301541.55 | H10: =H4-H8-H9 -> 348996.15 | I10: =I4-I8-I9 -> 644819.25 | ... Y10: =Y4-Y8-Y9 -> 7290597 | AA10: =SUM(B10:M10) -> 5834824.7 | AC10: =SUM(N10:Y10) -> 53969494 | AE10: =AE4-AE8-AE9 -> 1.0221207e+08 | AG10: =AG4-AG8-AG9 -> 1.5331811e+08 | AI10: =AI4-AI8-AI9 -> 1.9931355e+08
A11: (-) Total dos Custos | B11: =SUM(B12:B14) -> 6700 | C11: =SUM(C12:C14) -> 8556.25 | D11: =SUM(D12:D14) -> 10412.5 | E11: =SUM(E12:E14) -> 12168.75 | F11: =SUM(F12:F14) -> 151175 | G11: =SUM(G12:G14) -> 179931.25 | H11: =SUM(H12:H14) -> 208687.5 | I11: =SUM(I12:I14) -> 455693.75 | ... Y11: =SUM(Y12:Y14) -> 5606757.5 | AA11: =SUM(B11:M11) -> 3947037.5 | AC11: =SUM(N11:Y11) -> 41379978 | AE11: =SUM(AE12:AE14) -> 78370985 | AG11: =SUM(AG12:AG14) -> 1.1742907e+08 | AI11: =SUM(AI12:AI14) -> 1.5258773e+08
A12: (-) Servidor AWS | B12: =Premissas_Baseline!B34 -> 5100 | C12: =Premissas_Baseline!C34 -> 6056.25 | D12: =Premissas_Baseline!D34 -> 7012.5 | E12: =Premissas_Baseline!E34 -> 7968.75 | F12: =Premissas_Baseline!F34 -> 8925 | G12: =Premissas_Baseline!G34 -> 9881.25 | H12: =Premissas_Baseline!H34 -> 10837.5 | I12: =Premissas_Baseline!I34 -> 11793.75 | ... Y12: =Premissas_Baseline!Y34 -> 32257.5 | AA12: =SUM(B12:M12) -> 124312.5 | AC12: =SUM(N12:Y12) -> 289552.5 | AE12: =AC12*1.1 -> 318507.75 | AG12: =AE12*1.1 -> 350358.53 | AI12: =AG12*1.1 -> 385394.38
A13: (-) Comissões sobre Vendas | B13: =B5*Premissas_Baseline!$B$29 -> 1600 | C13: =C5*Premissas_Baseline!$B$29 -> 2500 | D13: =D5*Premissas_Baseline!$B$29 -> 3400 | E13: =E5*Premissas_Baseline!$B$29 -> 4200 | F13: =F5*Premissas_Baseline!$B$29 -> 5000 | G13: =G5*Premissas_Baseline!$B$29 -> 5800 | H13: =H5*Premissas_Baseline!$B$29 -> 6600 | I13: =I5*Premissas_Baseline!$B$29 -> 7400 | ... Y13: =Y5*Premissas_Baseline!$B$29 -> 21500 | AA13: =SUM(B13:M13) -> 73100 | AC13: =SUM(N13:Y13) -> 193300 | AE13: =AC13/AC5*AE5 -> 347940 | AG13: =AE13/AE5*AG5 -> 521910 | AI13: =AG13/AG5*AI5 -> 678483
A14: (-) Comissões Terceiros | B14: =Premissas_Baseline!$B$31*Premissas_Baseline!B14*Premissas_Baseline!B8 -> 0 | C14: =Premissas_Baseline!$B$31*Premissas_Baseline!C14*Premissas_Baseline!C8 -> 0 | D14: =Premissas_Baseline!$B$31*Premissas_Baseline!D14*Premissas_Baseline!D8 -> 0 | E14: =Premissas_Baseline!$B$31*Premissas_Baseline!E14*Premissas_Baseline!E8 -> 0 | F14: =Premissas_Baseline!$B$31*Premissas_Baseline!F14*Premissas_Baseline!F8 -> 137250 | G14: =Premissas_Baseline!$B$31*Premissas_Baseline!G14*Premissas_Baseline!G8 -> 164250 | H14: =Premissas_Baseline!$B$31*Premissas_Baseline!H14*Premissas_Baseline!H8 -> 191250 | I14: =Premissas_Baseline!$B$31*Premissas_Baseline!I14*Premissas_Baseline!I8 -> 436500 | ... Y14: =Premissas_Baseline!$B$31*Premissas_Baseline!Y14*Premissas_Baseline!Y8 -> 5553000 | AA14: =SUM(B14:M14) -> 3749625 | AC14: =SUM(N14:Y14) -> 40897125 | AE14: =AC14/AC6*AE6 -> 77704538 | AG14: =AE14/AE6*AG6 -> 1.1655681e+08 | AI14: =AG14/AG6*AI6 -> 1.5152385e+08
A15: (=) Margem Operacional | B15: =B10-B11 -> 20612 | C15: =C10-C11 -> 34118.75 | D15: =D10-D11 -> 47625.5 | E15: =E10-E11 -> 59525.25 | F15: =F10-F11 -> 90365.5 | G15: =G10-G11 -> 121610.3 | H15: =H10-H11 -> 140308.65 | I15: =I10-I11 -> 189125.5 | ... Y15: =Y10-Y11 -> 1683839.5 | AA15: =SUM(B15:M15) -> 1887787.2 | AB15: =AA15/$AA$10 -> 0.32353795 | AC15: =SUM(N15:Y15) -> 12589516 | AD15: =AC15/$AC$10 -> 0.23327097 | AE15: =AE10-AE11 -> 23841089 | AF15: =AE15/$AE$10 -> 0.2332512 | AG15: =AG10-AG11 -> 35889037 | AH15: =AG15/$AG$10 -> 0.23408217 | AI15: =AI10-AI11 -> 46725820 | AJ15: =AI15/$AI$10 -> 0.23443374
A16: (-) Total das Despesas | B16: =B17+B27+B31+B38+B36+B43 -> 344971.53 | C16: =C17+C27+C31+C38+C36+C43 -> 402624.67 | D16: =D17+D27+D31+D38+D36+D43 -> 461100.84 | E16: =E17+E27+E31+E38+E36+E43 -> 487250.3 | F16: =F17+F27+F31+F38+F36+F43 -> 565225.56 | G16: =G17+G27+G31+G38+G36+G43 -> 596471.6 | H16: =H17+H27+H31+H38+H36+H43 -> 614052.09 | I16: =I17+I27+I31+I38+I36+I43 -> 665620.91 | ... Y16: =Y17+Y27+Y31+Y38+Y36+Y43 -> 1456366.7 | AA16: =SUM(B16:M16) -> 7189005.9 | AB16: =-AA16/$AA$10 -> -1.232086 | AC16: =SUM(N16:Y16) -> 13920449 | AD16: =-AC16/$AC$10 -> -0.2579318 | AE16: =AE17+AE27+AE31+AE36+AE38+AE43 -> 21727620 | AF16: =AE16/$AE$10 -> 0.21257391 | AG16: =AG17+AG27+AG31+AG36+AG38+AG43 -> 30219830 | AH16: =AG16/$AG$10 -> 0.19710541 | AI16: =AI17+AI27+AI31+AI36+AI38+AI43 -> 38400257 | AJ16: =AI16/$AI$10 -> 0.19266255
A17: (-) Pessoas | B17: =SUM(B18:B26) -> 250093.2 | C17: =SUM(C18:C26) -> 307293.56 | D17: =SUM(D18:D26) -> 363650.56 | E17: =SUM(E18:E26) -> 389001.48 | F17: =SUM(F18:F26) -> 452661.3 | G17: =SUM(G18:G26) -> 479257.38 | H17: =SUM(H18:H26) -> 492375.1 | I17: =SUM(I18:I26) -> 508982.74 | ... Y17: =SUM(Y18:Y26) -> 567269.92 | AA17: =SUM(B17:M17) -> 5441271.2 | AB17: =-AA17/$AA$10 -> -0.93255093 | AC17: =SUM(N17:Y17) -> 6807239 | AD17: =-AC17/$AC$10 -> -0.12613124 | AE17: =SUM(AE18:AE26) -> 9189772.7 | AF17: =AE17/$AE$10 -> 0.089908876 | AG17: =SUM(AG18:AG26) -> 11946705 | AH17: =AG17/$AG$10 -> 0.077921026 | AI17: =SUM(AI18:AI26) -> 14933381 | AJ17: =AI17/$AI$10 -> 0.074924063
A18: (-) Salário | B18: =HCs!C62 -> 148000 | C18: =HCs!D62 -> 179900 | D18: =HCs!E62 -> 212400 | E18: =HCs!F62 -> 226700 | F18: =HCs!G62 -> 260750 | G18: =HCs!H62 -> 273950 | H18: =HCs!I62 -> 280250 | I18: =HCs!J62 -> 288350 | ... Y18: =HCs!Z62 -> 316800 | AA18: =SUM(B18:M18) -> 3102550 | AB18: =-AA18/$AA$10 -> -0.53172977 | AC18: =SUM(N18:Y18) -> 3801600 | AD18: =-AC18/$AC$10 -> -0.070439794 | AE18: =AC18*1.35 -> 5132160 | AF18: =AE18/$AE$10 -> 0.050210897 | AG18: =AE18*1.3 -> 6671808 | AH18: =AG18/$AG$10 -> 0.043516111 | AI18: =AG18*1.25 -> 8339760 | AJ18: =AI18/$AI$10 -> 0.041842415
A19: (-) FGTS | B19: =B18*Premissas_Baseline!$B$47 -> 11840 | C19: =C18*Premissas_Baseline!$B$47 -> 14392 | D19: =D18*Premissas_Baseline!$B$47 -> 16992 | E19: =E18*Premissas_Baseline!$B$47 -> 18136 | F19: =F18*Premissas_Baseline!$B$47 -> 20860 | G19: =G18*Premissas_Baseline!$B$47 -> 21916 | H19: =H18*Premissas_Baseline!$B$47 -> 22420 | I19: =I18*Premissas_Baseline!$B$47 -> 23068 | ... Y19: =Y18*Premissas_Baseline!$B$47 -> 25344 | AA19: =SUM(B19:M19) -> 248204 | AB19: =-AA19/$AA$10 -> -0.042538381 | AC19: =SUM(N19:Y19) -> 304128 | AD19: =-AC19/$AC$10 -> -0.0056351835 | AE19: =AC19/AC18*AE18 -> 410572.8 | AF19: =AE19/$AE$10 -> 0.0040168718 | AG19: =AE19/AE18*AG18 -> 533744.64 | AH19: =AG19/$AG$10 -> 0.0034812889 | AI19: =AG19/AG18*AI18 -> 667180.8 | AJ19: =AI19/$AI$10 -> 0.0033473932
A20: (-) INSS | B20: =B18*Premissas_Baseline!$B$48 -> 29600 | C20: =C18*Premissas_Baseline!$B$48 -> 35980 | D20: =D18*Premissas_Baseline!$B$48 -> 42480 | E20: =E18*Premissas_Baseline!$B$48 -> 45340 | F20: =F18*Premissas_Baseline!$B$48 -> 52150 | G20: =G18*Premissas_Baseline!$B$48 -> 54790 | H20: =H18*Premissas_Baseline!$B$48 -> 56050 | I20: =I18*Premissas_Baseline!$B$48 -> 57670 | ... Y20: =Y18*Premissas_Baseline!$B$48 -> 63360 | AA20: =SUM(B20:M20) -> 620510 | AB20: =-AA20/$AA$10 -> -0.10634595 | AC20: =SUM(N20:Y20) -> 760320 | AD20: =-AC20/$AC$10 -> -0.014087959 | AE20: =AC20/AC18*AE18 -> 1026432 | AF20: =AE20/$AE$10 -> 0.010042179 | AG20: =AE20/AE18*AG18 -> 1334361.6 | AH20: =AG20/$AG$10 -> 0.0087032222 | AI20: =AG20/AG18*AI18 -> 1667952 | AJ20: =AI20/$AI$10 -> 0.0083684829
A21: (-) Férias | B21: =B18*Premissas_Baseline!$B$49 -> 16442.8 | C21: =C18*Premissas_Baseline!$B$49 -> 19986.89 | D21: =D18*Premissas_Baseline!$B$49 -> 23597.64 | E21: =E18*Premissas_Baseline!$B$49 -> 25186.37 | F21: =F18*Premissas_Baseline!$B$49 -> 28969.325 | G21: =G18*Premissas_Baseline!$B$49 -> 30435.845 | H21: =H18*Premissas_Baseline!$B$49 -> 31135.775 | I21: =I18*Premissas_Baseline!$B$49 -> 32035.685 | ... Y21: =Y18*Premissas_Baseline!$B$49 -> 35196.48 | AA21: =SUM(B21:M21) -> 344693.3 | AB21: =-AA21/$AA$10 -> -0.059075177 | AC21: =SUM(N21:Y21) -> 422357.76 | AD21: =-AC21/$AC$10 -> -0.0078258611 | AE21: =AC21/AC18*AE18 -> 570182.98 | AF21: =AE21/$AE$10 -> 0.0055784307 | AG21: =AE21/AE18*AG18 -> 741237.87 | AH21: =AG21/$AG$10 -> 0.0048346399 | AI21: =AG21/AG18*AI18 -> 926547.34 | AJ21: =AI21/$AI$10 -> 0.0046486923
A22: (-) 13o Salário | B22: =B18*Premissas_Baseline!$B$50 -> 12328.4 | C22: =C18*Premissas_Baseline!$B$50 -> 14985.67 | D22: =D18*Premissas_Baseline!$B$50 -> 17692.92 | E22: =E18*Premissas_Baseline!$B$50 -> 18884.11 | F22: =F18*Premissas_Baseline!$B$50 -> 21720.475 | G22: =G18*Premissas_Baseline!$B$50 -> 22820.035 | H22: =H18*Premissas_Baseline!$B$50 -> 23344.825 | I22: =I18*Premissas_Baseline!$B$50 -> 24019.555 | ... Y22: =Y18*Premissas_Baseline!$B$50 -> 26389.44 | AA22: =SUM(B22:M22) -> 258442.42 | AB22: =-AA22/$AA$10 -> -0.04429309 | AC22: =SUM(N22:Y22) -> 316673.28 | AD22: =-AC22/$AC$10 -> -0.0058676348 | AE22: =AC22/AC18*AE18 -> 427508.93 | AF22: =AE22/$AE$10 -> 0.0041825678 | AG22: =AE22/AE18*AG18 -> 555761.61 | AH22: =AG22/$AG$10 -> 0.0036248921 | AI22: =AG22/AG18*AI18 -> 694702.01 | AJ22: =AI22/$AI$10 -> 0.0034854731
A23: (-) Fundo de Rescisão | B23: =B18*Premissas_Baseline!$B$51 -> 19240 | C23: =C18*Premissas_Baseline!$B$51 -> 23387 | D23: =D18*Premissas_Baseline!$B$51 -> 27612 | E23: =E18*Premissas_Baseline!$B$51 -> 29471 | F23: =F18*Premissas_Baseline!$B$51 -> 33897.5 | G23: =G18*Premissas_Baseline!$B$51 -> 35613.5 | H23: =H18*Premissas_Baseline!$B$51 -> 36432.5 | I23: =I18*Premissas_Baseline!$B$51 -> 37485.5 | ... Y23: =Y18*Premissas_Baseline!$B$51 -> 41184 | AA23: =SUM(B23:M23) -> 403331.5 | AB23: =-AA23/$AA$10 -> -0.06912487 | AC23: =SUM(N23:Y23) -> 494208 | AD23: =-AC23/$AC$10 -> -0.0091571732 | AE23: =AC23/AC18*AE18 -> 667180.8 | AF23: =AE23/$AE$10 -> 0.0065274167 | AG23: =AE23/AE18*AG18 -> 867335.04 | AH23: =AG23/$AG$10 -> 0.0056570945 | AI23: =AG23/AG18*AI18 -> 1084168.8 | AJ23: =AI23/$AI$10 -> 0.0054395139
A24: (-) Vale Transporte | B24: =HCs!C60*Premissas_Baseline!$B$55 -> 2772 | C24: =HCs!D60*Premissas_Baseline!$B$55 -> 4092 | D24: =HCs!E60*Premissas_Baseline!$B$55 -> 5016 | E24: =HCs!F60*Premissas_Baseline!$B$55 -> 5544 | F24: =HCs!G60*Premissas_Baseline!$B$55 -> 7524 | G24: =HCs!H60*Premissas_Baseline!$B$55 -> 8712 | H24: =HCs!I60*Premissas_Baseline!$B$55 -> 9372 | I24: =HCs!J60*Premissas_Baseline!$B$55 -> 10164 | ... Y24: =HCs!Z60*Premissas_Baseline!$B$55 -> 12936 | AA24: =SUM(B24:M24) -> 101640 | AB24: =-AA24/$AA$10 -> -0.017419546 | AC24: =SUM(N24:Y24) -> 155232 | AD24: =-AC24/$AC$10 -> -0.0028762916 | AE24: =AC24/AC18*AE18 -> 209563.2 | AF24: =AE24/$AE$10 -> 0.0020502783 | AG24: =AE24/AE18*AG18 -> 272432.16 | AH24: =AG24/$AG$10 -> 0.0017769079 | AI24: =AG24/AG18*AI18 -> 340540.2 | AJ24: =AI24/$AI$10 -> 0.0017085653
A25: (-) Vale Refeição | B25: =HCs!C60*Premissas_Baseline!$B$57 -> 9240 | C25: =HCs!D60*Premissas_Baseline!$B$57 -> 13640 | D25: =HCs!E60*Premissas_Baseline!$B$57 -> 16720 | E25: =HCs!F60*Premissas_Baseline!$B$57 -> 18480 | F25: =HCs!G60*Premissas_Baseline!$B$57 -> 25080 | G25: =HCs!H60*Premissas_Baseline!$B$57 -> 29040 | H25: =HCs!I60*Premissas_Baseline!$B$57 -> 31240 | I25: =HCs!J60*Premissas_Baseline!$B$57 -> 33880 | ... Y25: =HCs!Z60*Premissas_Baseline!$B$57 -> 43120 | AA25: =SUM(B25:M25) -> 338800 | AB25: =-AA25/$AA$10 -> -0.058065155 | AC25: =SUM(N25:Y25) -> 517440 | AD25: =-AC25/$AC$10 -> -0.0095876386 | AE25: =AC25/AC18*AE18 -> 698544 | AF25: =AE25/$AE$10 -> 0.006834261 | AG25: =AE25/AE18*AG18 -> 908107.2 | AH25: =AG25/$AG$10 -> 0.0059230262 | AI25: =AG25/AG18*AI18 -> 1135134 | AJ25: =AI25/$AI$10 -> 0.0056952175
A26: (-) Plano de Saúde | B26: =HCs!C60*Premissas_Baseline!$B$59 -> 630 | C26: =HCs!D60*Premissas_Baseline!$B$59 -> 930 | D26: =HCs!E60*Premissas_Baseline!$B$59 -> 1140 | E26: =HCs!F60*Premissas_Baseline!$B$59 -> 1260 | F26: =HCs!G60*Premissas_Baseline!$B$59 -> 1710 | G26: =HCs!H60*Premissas_Baseline!$B$59 -> 1980 | H26: =HCs!I60*Premissas_Baseline!$B$59 -> 2130 | I26: =HCs!J60*Premissas_Baseline!$B$59 -> 2310 | ... Y26: =HCs!Z60*Premissas_Baseline!$B$59 -> 2940 | AA26: =SUM(B26:M26) -> 23100 | AB26: =-AA26/$AA$10 -> -0.0039589878 | AC26: =SUM(N26:Y26) -> 35280 | AD26: =-AC26/$AC$10 -> -0.00065370263 | AE26: =AC26/AC18*AE18 -> 47628 | AF26: =AE26/$AE$10 -> 0.00046597234 | AG26: =AE26/AE18*AG18 -> 61916.4 | AH26: =AG26/$AG$10 -> 0.0004038427 | AI26: =AG26/AG18*AI18 -> 77395.5 | AJ26: =AI26/$AI$10 -> 0.00038831029
A27: (-) Utilities | B27: =SUM(B28:B30) -> 42758.333 | C27: =SUM(C28:C30) -> 40161.111 | D27: =SUM(D28:D30) -> 39452.778 | E27: =SUM(E28:E30) -> 38744.444 | F27: =SUM(F28:F30) -> 41341.667 | G27: =SUM(G28:G30) -> 39925 | H27: =SUM(H28:H30) -> 38980.556 | I27: =SUM(I28:I30) -> 39216.667 | ... Y27: =SUM(Y28:Y30) -> 60938.889 | AA27: =SUM(B27:M27) -> 540252.78 | AB27: =-AA27/$AA$10 -> -0.092591089 | AC27: =SUM(N27:Y27) -> 731266.67 | AD27: =-AC27/$AC$10 -> -0.01354963 | AE27: =SUM(AE28:AE30) -> 804393.33 | AF27: =AE27/$AE$10 -> 0.0078698465 | AG27: =SUM(AG28:AG30) -> 884832.67 | AH27: =AG27/$AG$10 -> 0.0057712207 | AI27: =SUM(AI28:AI30) -> 973315.93 | AJ27: =AI27/$AI$10 -> 0.0048833406
A28: (-) Aluguel, IPTU, Condomínio | B28: =Premissas_Baseline!$B$62 -> 37800 | C28: =Premissas_Baseline!$B$62 -> 37800 | D28: =Premissas_Baseline!$B$62 -> 37800 | E28: =Premissas_Baseline!$B$62 -> 37800 | F28: =Premissas_Baseline!$B$62 -> 37800 | G28: =Premissas_Baseline!$B$62 -> 37800 | H28: =Premissas_Baseline!$B$62 -> 37800 | I28: =Premissas_Baseline!$B$62 -> 37800 | ... Y28: =Premissas_Baseline!$B$62 -> 37800 | AA28: =SUM(B28:M28) -> 453600 | AB28: =-AA28/$AA$10 -> -0.077740124 | AC28: =SUM(N28:Y28) -> 453600 | AD28: =-AC28/$AC$10 -> -0.0084047481 | AE28: =AC28*1.1 -> 498960 | AF28: =AE28/$AE$10 -> 0.004881615 | AG28: =AE28*1.1 -> 548856 | AH28: =AG28/$AG$10 -> 0.003579851 | AI28: =AG28*1.1 -> 603741.6 | AJ28: =AI28/$AI$10 -> 0.0030291047
A29: (-) Água, Luz, Tel./Internet | B29: =Premissas_Baseline!$B$64*HCs!C59 -> 3675 | C29: =Premissas_Baseline!$B$64*HCs!D59 -> 1750 | D29: =Premissas_Baseline!$B$64*HCs!E59 -> 1225 | E29: =Premissas_Baseline!$B$64*HCs!F59 -> 700 | F29: =Premissas_Baseline!$B$64*HCs!G59 -> 2625 | G29: =Premissas_Baseline!$B$64*HCs!H59 -> 1575 | H29: =Premissas_Baseline!$B$64*HCs!I59 -> 875 | I29: =Premissas_Baseline!$B$64*HCs!J59 -> 1050 | J29: =Premissas_Baseline!$B$64*HCs!K59 -> 1225 | K29: =Premissas_Baseline!$B$64*HCs!L60 -> 16100 | L29: =Premissas_Baseline!$B$64*HCs!M60 -> 16275 | M29: =Premissas_Baseline!$B$64*HCs!N60 -> 17150 | N29: =Premissas_Baseline!$B$64*HCs!O60 -> 17150 | O29: =Premissas_Baseline!$B$64*HCs!P60 -> 17150 | P29: =Premissas_Baseline!$B$64*HCs!Q60 -> 17150 | Q29: =Premissas_Baseline!$B$64*HCs!R60 -> 17150 | R29: =Premissas_Baseline!$B$64*HCs!S60 -> 17150 | ... Y29: =Premissas_Baseline!$B$64*HCs!Z60 -> 17150 | AA29: =SUM(B29:M29) -> 64225 | AB29: =-AA29/$AA$10 -> -0.011007186 | AC29: =SUM(N29:Y29) -> 205800 | AD29: =-AC29/$AC$10 -> -0.0038132654 | AE29: =AC29*1.1 -> 226380 | AF29: =AE29/$AE$10 -> 0.0022148068 | AG29: =AE29*1.1 -> 249018 | AH29: =AG29/$AG$10 -> 0.0016241917 | AI29: =AG29*1.1 -> 273919.8 | AJ29: =AI29/$AI$10 -> 0.001374316
A30: (-) Computadores / Mesas | B30: =Premissas_Baseline!$B$63*HCs!C59 -> 1283.3333 | C30: =Premissas_Baseline!$B$63*HCs!D59 -> 611.11111 | D30: =Premissas_Baseline!$B$63*HCs!E59 -> 427.77778 | E30: =Premissas_Baseline!$B$63*HCs!F59 -> 244.44444 | F30: =Premissas_Baseline!$B$63*HCs!G59 -> 916.66667 | G30: =Premissas_Baseline!$B$63*HCs!H59 -> 550 | H30: =Premissas_Baseline!$B$63*HCs!I59 -> 305.55556 | I30: =Premissas_Baseline!$B$63*HCs!J59 -> 366.66667 | J30: =Premissas_Baseline!$B$63*HCs!K59 -> 427.77778 | K30: =Premissas_Baseline!$B$63*HCs!L60 -> 5622.2222 | L30: =Premissas_Baseline!$B$63*HCs!M60 -> 5683.3333 | M30: =Premissas_Baseline!$B$63*HCs!N60 -> 5988.8889 | N30: =Premissas_Baseline!$B$63*HCs!O60 -> 5988.8889 | O30: =Premissas_Baseline!$B$63*HCs!P60 -> 5988.8889 | P30: =Premissas_Baseline!$B$63*HCs!Q60 -> 5988.8889 | Q30: =Premissas_Baseline!$B$63*HCs!R60 -> 5988.8889 | R30: =Premissas_Baseline!$B$63*HCs!S60 -> 5988.8889 | ... Y30: =Premissas_Baseline!$B$63*HCs!Z60 -> 5988.8889 | AA30: =SUM(B30:M30) -> 22427.778 | AB30: =-AA30/$AA$10 -> -0.0038437792 | AC30: =SUM(N30:Y30) -> 71866.667 | AD30: =-AC30/$AC$10 -> -0.0013316165 | AE30: =AC30*1.1 -> 79053.333 | AF30: =AE30/$AE$10 -> 0.0007734246 | AG30: =AE30*1.1 -> 86958.667 | AH30: =AG30/$AG$10 -> 0.00056717804 | AI30: =AG30*1.1 -> 95654.533 | AJ30: =AI30/$AI$10 -> 0.00047991988
A31: (-) Softwares / Tecnologia | B31: =SUM(B32:B35) -> 4220 | C31: =SUM(C32:C35) -> 5520 | D31: =SUM(D32:D35) -> 6860 | E31: =SUM(E32:E35) -> 7140 | F31: =SUM(F32:F35) -> 8190 | G31: =SUM(G32:G35) -> 8845 | H31: =SUM(H32:H35) -> 9195 | I31: =SUM(I32:I35) -> 9615 | ... Y31: =SUM(Y32:Y35) -> 11085 | AA31: =SUM(B31:M31) -> 102175 | AB31: =-AA31/$AA$10 -> -0.017511237 | AC31: =SUM(N31:Y31) -> 133020 | AD31: =-AC31/$AC$10 -> -0.0024647257 | AE31: =SUM(AE32:AE35) -> 146322 | AF31: =AE31/$AE$10 -> 0.001431553 | AG31: =SUM(AG32:AG35) -> 160954.2 | AH31: =AG31/$AG$10 -> 0.0010498055 | AI31: =SUM(AI32:AI35) -> 177049.62 | AJ31: =AI31/$AI$10 -> 0.00088829698
A32: (-) CRM | B32: =Premissas_Baseline!$B$71*HCs!C54 -> 150 | C32: =Premissas_Baseline!$B$71*HCs!D54 -> 150 | D32: =Premissas_Baseline!$B$71*HCs!E54 -> 300 | E32: =Premissas_Baseline!$B$71*HCs!F54 -> 450 | F32: =Premissas_Baseline!$B$71*HCs!G54 -> 750 | G32: =Premissas_Baseline!$B$71*HCs!H54 -> 825 | H32: =Premissas_Baseline!$B$71*HCs!I54 -> 825 | I32: =Premissas_Baseline!$B$71*HCs!J54 -> 825 | ... Y32: =Premissas_Baseline!$B$71*HCs!Z54 -> 825 | AA32: =SUM(B32:M32) -> 7575 | AB32: =-AA32/$AA$10 -> -0.0012982395 | AC32: =SUM(N32:Y32) -> 9900 | AD32: =-AC32/$AC$10 -> -0.00018343696 | AE32: =AC32*1.1 -> 10890 | AF32: =AE32/$AE$10 -> 0.00010654319 | AG32: =AE32*1.1 -> 11979 | AH32: =AG32/$AG$10 -> 7.8131669e-05 | AI32: =AG32*1.1 -> 13176.9 | AJ32: =AI32/$AI$10 -> 6.6111412e-05
A33: (-) Google Suite | B33: =Premissas_Baseline!$B$72*HCs!C60 -> 420 | C33: =Premissas_Baseline!$B$72*HCs!D60 -> 620 | D33: =Premissas_Baseline!$B$72*HCs!E60 -> 760 | E33: =Premissas_Baseline!$B$72*HCs!F60 -> 840 | F33: =Premissas_Baseline!$B$72*HCs!G60 -> 1140 | G33: =Premissas_Baseline!$B$72*HCs!H60 -> 1320 | H33: =Premissas_Baseline!$B$72*HCs!I60 -> 1420 | I33: =Premissas_Baseline!$B$72*HCs!J60 -> 1540 | ... Y33: =Premissas_Baseline!$B$72*HCs!Z60 -> 1960 | AA33: =SUM(B33:M33) -> 15400 | AB33: =-AA33/$AA$10 -> -0.0026393252 | AC33: =SUM(N33:Y33) -> 23520 | AD33: =-AC33/$AC$10 -> -0.00043580176 | AE33: =AC33*1.1 -> 25872 | AF33: =AE33/$AE$10 -> 0.00025312078 | AG33: =AE33*1.1 -> 28459.2 | AH33: =AG33/$AG$10 -> 0.00018562191 | AI33: =AG33*1.1 -> 31305.12 | AJ33: =AI33/$AI$10 -> 0.00015706469
A34: (-) Desenvolvimento | B34: =Premissas_Baseline!$B$73*HCs!C40 -> 3500 | C34: =Premissas_Baseline!$B$73*HCs!D40 -> 4500 | D34: =Premissas_Baseline!$B$73*HCs!E40 -> 5500 | E34: =Premissas_Baseline!$B$73*HCs!F40 -> 5500 | F34: =Premissas_Baseline!$B$73*HCs!G40 -> 5500 | G34: =Premissas_Baseline!$B$73*HCs!H40 -> 5500 | H34: =Premissas_Baseline!$B$73*HCs!I40 -> 5500 | I34: =Premissas_Baseline!$B$73*HCs!J40 -> 5500 | ... Y34: =Premissas_Baseline!$B$73*HCs!Z40 -> 5500 | AA34: =SUM(B34:M34) -> 63000 | AB34: =-AA34/$AA$10 -> -0.010797239 | AC34: =SUM(N34:Y34) -> 66000 | AD34: =-AC34/$AC$10 -> -0.0012229131 | AE34: =AC34*1.1 -> 72600 | AF34: =AE34/$AE$10 -> 0.0007102879 | AG34: =AE34*1.1 -> 79860 | AH34: =AG34/$AG$10 -> 0.00052087779 | AI34: =AG34*1.1 -> 87846 | AJ34: =AI34/$AI$10 -> 0.00044074275
A35: (-) Atendimento | B35: =Premissas_Baseline!$B$74*HCs!C26 -> 150 | C35: =Premissas_Baseline!$B$74*HCs!D26 -> 250 | D35: =Premissas_Baseline!$B$74*HCs!E26 -> 300 | E35: =Premissas_Baseline!$B$74*HCs!F26 -> 350 | F35: =Premissas_Baseline!$B$74*HCs!G26 -> 800 | G35: =Premissas_Baseline!$B$74*HCs!H26 -> 1200 | H35: =Premissas_Baseline!$B$74*HCs!I26 -> 1450 | I35: =Premissas_Baseline!$B$74*HCs!J26 -> 1750 | ... Y35: =Premissas_Baseline!$B$74*HCs!Z26 -> 2800 | AA35: =SUM(B35:M35) -> 16200 | AB35: =-AA35/$AA$10 -> -0.002776433 | AC35: =SUM(N35:Y35) -> 33600 | AD35: =-AC35/$AC$10 -> -0.00062257394 | AE35: =AC35*1.1 -> 36960 | AF35: =AE35/$AE$10 -> 0.00036160111 | AG35: =AE35*1.1 -> 40656 | AH35: =AG35/$AG$10 -> 0.00026517415 | AI35: =AG35*1.1 -> 44721.6 | AJ35: =AI35/$AI$10 -> 0.00022437813
A36: (-) Deslocamento | B36: =B37 -> 4800 | C36: =C37 -> 4800 | D36: =D37 -> 4800 | E36: =E37 -> 4800 | F36: =F37 -> 4800 | G36: =G37 -> 4800 | H36: =H37 -> 4800 | I36: =I37 -> 4800 | ... Y36: =Y37 -> 4800 | AA36: =SUM(B36:M36) -> 57600 | AB36: =-AA36/$AA$10 -> -0.0098717618 | AC36: =SUM(N36:Y36) -> 57600 | AD36: =-AC36/$AC$10 -> -0.0010672696 | AE36: =AE37 -> 69120 | AF36: =AE36/$AE$10 -> 0.00067624104 | AG36: =AG37 -> 82944 | AH36: =AG36/$AG$10 -> 0.00054099283 | AI36: =AI37 -> 99532.8 | AJ36: =AI36/$AI$10 -> 0.000499378
A37: (-) Viagens | B37: =Premissas_Baseline!$B$67*4*Premissas_Baseline!$B$68 -> 4800 | C37: =Premissas_Baseline!$B$67*4*Premissas_Baseline!$B$68 -> 4800 | D37: =Premissas_Baseline!$B$67*4*Premissas_Baseline!$B$68 -> 4800 | E37: =Premissas_Baseline!$B$67*4*Premissas_Baseline!$B$68 -> 4800 | F37: =Premissas_Baseline!$B$67*4*Premissas_Baseline!$B$68 -> 4800 | G37: =Premissas_Baseline!$B$67*4*Premissas_Baseline!$B$68 -> 4800 | H37: =Premissas_Baseline!$B$67*4*Premissas_Baseline!$B$68 -> 4800 | I37: =Premissas_Baseline!$B$67*4*Premissas_Baseline!$B$68 -> 4800 | ... Y37: =Premissas_Baseline!$B$67*4*Premissas_Baseline!$B$68 -> 4800 | AA37: =SUM(B37:M37) -> 57600 | AB37: =-AA37/$AA$10 -> -0.0098717618 | AC37: =SUM(N37:Y37) -> 57600 | AD37: =-AC37/$AC$10 -> -0.0010672696 | AE37: =AC37*1.2 -> 69120 | AF37: =AE37/$AE$10 -> 0.00067624104 | AG37: =AE37*1.2 -> 82944 | AH37: =AG37/$AG$10 -> 0.00054099283 | AI37: =AG37*1.2 -> 99532.8 | AJ37: =AI37/$AI$10 -> 0.000499378
A38: (-) Serviços terceirizados | B38: =SUM(B39:B42) -> 28100 | C38: =SUM(C39:C42) -> 29100 | D38: =SUM(D39:D42) -> 29800 | E38: =SUM(E39:E42) -> 30200 | F38: =SUM(F39:F42) -> 21700 | G38: =SUM(G39:G42) -> 22600 | H38: =SUM(H39:H42) -> 23100 | I38: =SUM(I39:I42) -> 23700 | ... Y38: =SUM(Y39:Y42) -> 25800 | AA38: =SUM(B38:M38) -> 309000 | AB38: =-AA38/$AA$10 -> -0.052957889 | AC38: =SUM(N38:Y38) -> 309600 | AD38: =-AC38/$AC$10 -> -0.0057365741 | AE38: =SUM(AE39:AE42) -> 345360 | AF38: =AE38/$AE$10 -> 0.0033788572 | AG38: =SUM(AG39:AG42) -> 385416 | AH38: =AG38/$AG$10 -> 0.0025138322 | AI38: =SUM(AI39:AI42) -> 430305.6 | AJ38: =AI38/$AI$10 -> 0.0021589381
A39: (-) Assessoria Contábil | B39: =Premissas_Baseline!$B$40 -> 8000 | C39: =Premissas_Baseline!$B$40 -> 8000 | D39: =Premissas_Baseline!$B$40 -> 8000 | E39: =Premissas_Baseline!$B$40 -> 8000 | F39: =Premissas_Baseline!$B$40 -> 8000 | G39: =Premissas_Baseline!$B$40 -> 8000 | H39: =Premissas_Baseline!$B$40 -> 8000 | I39: =Premissas_Baseline!$B$40 -> 8000 | ... Y39: =Premissas_Baseline!$B$40 -> 8000 | AA39: =SUM(B39:M39) -> 96000 | AB39: =-AA39/$AA$10 -> -0.016452936 | AC39: =SUM(N39:Y39) -> 96000 | AD39: =-AC39/$AC$10 -> -0.0017787827 | AE39: =AC39*1.1 -> 105600 | AF39: =AE39/$AE$10 -> 0.001033146 | AG39: =AE39*1.1 -> 116160 | AH39: =AG39/$AG$10 -> 0.00075764043 | AI39: =AG39*1.1 -> 127776 | AJ39: =AI39/$AI$10 -> 0.00064108036
A40: (-) Assessoria Jurídica | B40: =Premissas_Baseline!$B$41 -> 8000 | C40: =Premissas_Baseline!$B$41 -> 8000 | D40: =Premissas_Baseline!$B$41 -> 8000 | E40: =Premissas_Baseline!$B$41 -> 8000 | F40: =Premissas_Baseline!$B$41 -> 8000 | G40: =Premissas_Baseline!$B$41 -> 8000 | H40: =Premissas_Baseline!$B$41 -> 8000 | I40: =Premissas_Baseline!$B$41 -> 8000 | ... Y40: =Premissas_Baseline!$B$41 -> 8000 | AA40: =SUM(B40:M40) -> 96000 | AB40: =-AA40/$AA$10 -> -0.016452936 | AC40: =SUM(N40:Y40) -> 96000 | AD40: =-AC40/$AC$10 -> -0.0017787827 | AE40: =AC40*1.15 -> 110400 | AF40: =AE40/$AE$10 -> 0.0010801072 | AG40: =AE40*1.15 -> 126960 | AH40: =AG40/$AG$10 -> 0.0008280822 | AI40: =AG40*1.15 -> 146004 | AJ40: =AI40/$AI$10 -> 0.00073253426
A41: (-) Consultoria TI | B41: =Premissas_Baseline!$B$42 -> 10000 | C41: =Premissas_Baseline!$B$42 -> 10000 | D41: =Premissas_Baseline!$B$42 -> 10000 | E41: =Premissas_Baseline!$B$42 -> 10000 | F41: 0 | G41: 0 | H41: 0 | I41: 0 | J41: 0 | K41: 0 | L41: 0 | M41: 0 | N41: 0 | O41: 0 | P41: 0 | Q41: 0 | R41: 0 | S41: 0 | T41: 0 | U41: 0 | V41: 0 | W41: 0 | X41: 0 | Y41: 0 | AA41: =SUM(B41:M41) -> 40000 | AB41: =-AA41/$AA$10 -> -0.0068553902 | AC41: =SUM(N41:Y41) -> 0 | AD41: =-AC41/$AC$10 -> 0 | AE41: 0 | AF41: =AE41/$AE$10 -> 0 | AG41: 0 | AH41: =AG41/$AG$10 -> 0 | AI41: 0 | AJ41: =AI41/$AI$10 -> 0
...

Sheet HCs
A1: BP Template
A2: Head Count
A4: Administrativo / Financeiro | B4: Salário | C4: Mês 1 | D4: Mês 2 | E4: Mês 3 | F4: Mês 4 | G4: Mês 5 | H4: Mês 6 | I4: Mês 7 | J4: Mês 8 | K4: Mês 9 | L4: Mês 10 | M4: Mês 11 | N4: Mês 12 | O4: Mês 13 | P4: Mês 14 | Q4: Mês 15 | R4: Mês 16 | S4: Mês 17 | T4: Mês 18 | U4: Mês 19 | V4: Mês 20 | W4: Mês 21 | X4: Mês 22 | Y4: Mês 23 | Z4: Mês 24
A5: CEO | B5: 15000 | C5: 1 | D5: 0 | E5: 0 | F5: 0 | G5: 0 | H5: 0 | I5: 0 | J5: 0 | K5: 0 | L5: 0 | M5: 0 | N5: 0 | O5: 0 | P5: 0 | Q5: 0 | R5: 0 | S5: 0 | T5: 0 | U5: 0 | V5: 0 | W5: 0 | X5: 0 | Y5: 0 | Z5: 0
A6: Gerente Financeiro | B6: 8000 | C6: 1 | D6: 0 | E6: 0 | F6: 0 | G6: 0 | H6: 0 | I6: 0 | J6: 0 | K6: 0 | L6: 0 | M6: 0 | N6: 0 | O6: 0 | P6: 0 | Q6: 0 | R6: 0 | S6: 0 | T6: 0 | U6: 0 | V6: 0 | W6: 0 | X6: 0 | Y6: 0 | Z6: 0
A7: Analista Admin/Financeiro Sr. | B7: 4500 | C7: 0 | D7: 0 | E7: 0 | F7: 1 | G7: 1 | H7: 0 | I7: 0 | J7: 0 | K7: 0 | L7: 0 | M7: 0 | N7: 0 | O7: 0 | P7: 0 | Q7: 0 | R7: 0 | S7: 0 | T7: 0 | U7: 0 | V7: 0 | W7: 0 | X7: 0 | Y7: 0 | Z7: 0
A8: Analista Admin/Financeiro Pl. | B8: 3000 | C8: 0 | D8: 1 | E8: 0 | F8: 0 | G8: 1 | H8: 0 | I8: 0 | J8: 0 | K8: 0 | L8: 0 | M8: 0 | N8: 0 | O8: 0 | P8: 0 | Q8: 0 | R8: 0 | S8: 0 | T8: 0 | U8: 0 | V8: 0 | W8: 0 | X8: 0 | Y8: 0 | Z8: 0
A9: Gerente de RH | B9: 3500 | C9: 0 | D9: 1 | E9: 0 | F9: 0 | G9: 0 | H9: 0 | I9: 0 | J9: 0 | K9: 0 | L9: 0 | M9: 0 | N9: 0 | O9: 0 | P9: 0 | Q9: 0 | R9: 0 | S9: 0 | T9: 0 | U9: 0 | V9: 0 | W9: 0 | X9: 0 | Y9: 0 | Z9: 0
A10: Analista de RH/DP | B10: 1800 | C10: 0 | D10: 2 | E10: 0 | F10: 0 | G10: 0 | H10: 0 | I10: 0 | J10: 0 | K10: 0 | L10: 0 | M10: 0 | N10: 0 | O10: 0 | P10: 0 | Q10: 0 | R10: 0 | S10: 0 | T10: 0 | U10: 0 | V10: 0 | W10: 0 | X10: 0 | Y10: 0 | Z10: 0
A11: HCs novos | B11: - | C11: =SUM(C5:C10) -> 2 | D11: =SUM(D5:D10) -> 4 | E11: =SUM(E5:E10) -> 0 | F11: =SUM(F5:F10) -> 1 | G11: =SUM(G5:G10) -> 2 | H11: =SUM(H5:H10) -> 0 | I11: =SUM(I5:I10) -> 0 | J11: =SUM(J5:J10) -> 0 | ... Z11: =SUM(Z5:Z10) -> 0
A12: HCs Acumulados | B12: - | C12: =C11 -> 2 | D12: =D11+C12 -> 6 | E12: =E11+D12 -> 6 | F12: =F11+E12 -> 7 | G12: =G11+F12 -> 9 | H12: =H11+G12 -> 9 | I12: =I11+H12 -> 9 | J12: =J11+I12 -> 9 | K12: =K11+J12 -> 9 | ... Z12: =Z11+Y12 -> 9
A13: Salários novos | B13: - | C13: =($B$5*C5)+(C6*$B$6)+(C7*$B$7)+(C8*$B$8)+($B$9*C9)+($B$10*C10) -> 23000 | D13: =($B$5*D5)+(D6*$B$6)+(D7*$B$7)+(D8*$B$8)+($B$9*D9)+($B$10*D10) -> 10100 | E13: =($B$5*E5)+(E6*$B$6)+(E7*$B$7)+(E8*$B$8)+($B$9*E9)+($B$10*E10) -> 0 | F13: =($B$5*F5)+(F6*$B$6)+(F7*$B$7)+(F8*$B$8)+($B$9*F9)+($B$10*F10) -> 4500 | G13: =($B$5*G5)+(G6*$B$6)+(G7*$B$7)+(G8*$B$8)+($B$9*G9)+($B$10*G10) -> 7500 | H13: =($B$5*H5)+(H6*$B$6)+(H7*$B$7)+(H8*$B$8)+($B$9*H9)+($B$10*H10) -> 0 | I13: =($B$5*I5)+(I6*$B$6)+(I7*$B$7)+(I8*$B$8)+($B$9*I9)+($B$10*I10) -> 0 | J13: =($B$5*J5)+(J6*$B$6)+(J7*$B$7)+(J8*$B$8)+($B$9*J9)+($B$10*J10) -> 0 | ... Z13: =($B$5*Z5)+(Z6*$B$6)+(Z7*$B$7)+(Z8*$B$8)+($B$9*Z9)+($B$10*Z10) -> 0
A14: Salários acumulados | B14: - | C14: =C13 -> 23000 | D14: =D13+C14 -> 33100 | E14: =E13+D14 -> 33100 | F14: =F13+E14 -> 37600 | G14: =G13+F14 -> 45100 | H14: =H13+G14 -> 45100 | I14: =I13+H14 -> 45100 | J14: =J13+I14 -> 45100 | K14: =K13+J14 -> 45100 | ... Z14: =Z13+Y14 -> 45100
A16: Operações | B16: Salário | C16: Mês 1 | D16: Mês 2 | E16: Mês 3 | F16: Mês 4 | G16: Mês 5 | H16: Mês 6 | I16: Mês 7 | J16: Mês 8 | K16: Mês 9 | L16: Mês 10 | M16: Mês 11 | N16: Mês 12 | O16: Mês 13 | P16: Mês 14 | Q16: Mês 15 | R16: Mês 16 | S16: Mês 17 | T16: Mês 18 | U16: Mês 19 | V16: Mês 20 | W16: Mês 21 | X16: Mês 22 | Y16: Mês 23 | Z16: Mês 24
A17: COO | B17: 15000 | C17: 1 | D17: 0 | E17: 0 | F17: 0 | G17: 0 | H17: 0 | I17: 0 | J17: 0 | K17: 0 | L17: 0 | M17: 0 | N17: 0 | O17: 0 | P17: 0 | Q17: 0 | R17: 0 | S17: 0 | T17: 0 | U17: 0 | V17: 0 | W17: 0 | X17: 0 | Y17: 0 | Z17: 0
A18: Gerente Operacional | B18: 6000 | C18: 0 | D18: 1 | E18: 0 | F18: 0 | G18: 0 | H18: 0 | I18: 0 | J18: 0 | K18: 0 | L18: 0 | M18: 0 | N18: 0 | O18: 0 | P18: 0 | Q18: 0 | R18: 0 | S18: 0 | T18: 0 | U18: 0 | V18: 0 | W18: 0 | X18: 0 | Y18: 0 | Z18: 0
A19: Analista de CS Sr. | B19: 2500 | C19: 2 | D19: 0 | E19: 1 | F19: 0 | G19: 1 | H19: 0 | I19: 0 | J19: 0 | K19: 0 | L19: 0 | M19: 0 | N19: 0 | O19: 0 | P19: 0 | Q19: 0 | R19: 0 | S19: 0 | T19: 0 | U19: 0 | V19: 0 | W19: 0 | X19: 0 | Y19: 0 | Z19: 0
A20: Analista de CS Pl. | B20: 1800 | C20: 0 | D20: 1 | E20: 0 | F20: 1 | G20: 0 | H20: 1 | I20: 0 | J20: 1 | K20: 0 | L20: 1 | M20: 0 | N20: 1 | O20: 0 | P20: 0 | Q20: 0 | R20: 0 | S20: 0 | T20: 0 | U20: 0 | V20: 0 | W20: 0 | X20: 0 | Y20: 0 | Z20: 0
A21: Analista de CS Jr. | B21: 1400 | C21: 0 | D21: 0 | E21: 0 | F21: 0 | G21: 2 | H21: 1 | I21: 2 | J21: 2 | K21: 3 | L21: 4 | M21: 0 | N21: 2 | O21: 0 | P21: 0 | Q21: 0 | R21: 0 | S21: 0 | T21: 0 | U21: 0 | V21: 0 | W21: 0 | X21: 0 | Y21: 0 | Z21: 0
A22: Analista de backoffice | B22: 1500 | C22: 0 | D22: 0 | E22: 0 | F22: 0 | G22: 4 | H22: 3 | I22: 0 | J22: 0 | K22: 0 | L22: 0 | M22: 0 | N22: 0 | O22: 0 | P22: 0 | Q22: 0 | R22: 0 | S22: 0 | T22: 0 | U22: 0 | V22: 0 | W22: 0 | X22: 0 | Y22: 0 | Z22: 0
A23: Analísta de logística (fisicos) | B23: 1000 | C23: 0 | D23: 0 | E23: 0 | F23: 0 | G23: 1 | H23: 1 | I23: 1 | J23: 1 | K23: 1 | L23: 0 | M23: 0 | N23: 0 | O23: 0 | P23: 0 | Q23: 0 | R23: 0 | S23: 0 | T23: 0 | U23: 0 | V23: 0 | W23: 0 | X23: 0 | Y23: 0 | Z23: 0
A24: Analista de formalização | B24: 1250 | C24: 0 | D24: 0 | E24: 0 | F24: 0 | G24: 1 | H24: 2 | I24: 2 | J24: 2 | K24: 3 | L24: 3 | M24: 1 | N24: 2 | O24: 0 | P24: 0 | Q24: 0 | R24: 0 | S24: 0 | T24: 0 | U24: 0 | V24: 0 | W24: 0 | X24: 0 | Y24: 0 | Z24: 0
A25: HCs novos | B25: - | C25: =SUM(C17:C24) -> 3 | D25: =SUM(D17:D24) -> 2 | E25: =SUM(E17:E24) -> 1 | F25: =SUM(F17:F24) -> 1 | G25: =SUM(G17:G24) -> 9 | H25: =SUM(H17:H24) -> 8 | I25: =SUM(I17:I24) -> 5 | J25: =SUM(J17:J24) -> 6 | ... Z25: =SUM(Z17:Z24) -> 0
A26: HCs Acumulados | B26: - | C26: =C25 -> 3 | D26: =D25+C26 -> 5 | E26: =E25+D26 -> 6 | F26: =F25+E26 -> 7 | G26: =G25+F26 -> 16 | H26: =H25+G26 -> 24 | I26: =I25+H26 -> 29 | J26: =J25+I26 -> 35 | K26: =K25+J26 -> 42 | ... Z26: =Z25+Y26 -> 56
A27: Salários novos | B27: - | C27: =($B$17*C17)+($B$18*C18)+($B$19*C19)+($B$20*C20)+($B$21*C21)+($B$22*C22)+($B$23*C23)+($B$24*C24) -> 20000 | D27: =($B$17*D17)+($B$18*D18)+($B$19*D19)+($B$20*D20)+($B$21*D21)+($B$22*D22)+($B$23*D23)+($B$24*D24) -> 7800 | E27: =($B$17*E17)+($B$18*E18)+($B$19*E19)+($B$20*E20)+($B$21*E21)+($B$22*E22)+($B$23*E23)+($B$24*E24) -> 2500 | F27: =($B$17*F17)+($B$18*F18)+($B$19*F19)+($B$20*F20)+($B$21*F21)+($B$22*F22)+($B$23*F23)+($B$24*F24) -> 1800 | G27: =($B$17*G17)+($B$18*G18)+($B$19*G19)+($B$20*G20)+($B$21*G21)+($B$22*G22)+($B$23*G23)+($B$24*G24) -> 13550 | H27: =($B$17*H17)+($B$18*H18)+($B$19*H19)+($B$20*H20)+($B$21*H21)+($B$22*H22)+($B$23*H23)+($B$24*H24) -> 11200 | I27: =($B$17*I17)+($B$18*I18)+($B$19*I19)+($B$20*I20)+($B$21*I21)+($B$22*I22)+($B$23*I23)+($B$24*I24) -> 6300 | J27: =($B$17*J17)+($B$18*J18)+($B$19*J19)+($B$20*J20)+($B$21*J21)+($B$22*J22)+($B$23*J23)+($B$24*J24) -> 8100 | ... Z27: =($B$17*Z17)+($B$18*Z18)+($B$19*Z19)+($B$20*Z20)+($B$21*Z21)+($B$22*Z22)+($B$23*Z23)+($B$24*Z24) -> 0
A28: Salários acumulados | B28: - | C28: =C27 -> 20000 | D28: =D27+C28 -> 27800 | E28: =E27+D28 -> 30300 | F28: =F27+E28 -> 32100 | G28: =G27+F28 -> 45650 | H28: =H27+G28 -> 56850 | I28: =I27+H28 -> 63150 | J28: =J27+I28 -> 71250 | K28: =K27+J28 -> 80200 | ... Z28: =Z27+Y28 -> 99700
A30: Produtos e TI | B30: Salário | C30: Mês 1 | D30: Mês 2 | E30: Mês 3 | F30: Mês 4 | G30: Mês 5 | H30: Mês 6 | I30: Mês 7 | J30: Mês 8 | K30: Mês 9 | L30: Mês 10 | M30: Mês 11 | N30: Mês 12 | O30: Mês 13 | P30: Mês 14 | Q30: Mês 15 | R30: Mês 16 | S30: Mês 17 | T30: Mês 18 | U30: Mês 19 | V30: Mês 20 | W30: Mês 21 | X30: Mês 22 | Y30: Mês 23 | Z30: Mês 24
A31: CTO | B31: 15000 | C31: 1 | D31: 0 | E31: 0 | F31: 0 | G31: 0 | H31: 0 | I31: 0 | J31: 0 | K31: 0 | L31: 0 | M31: 0 | N31: 0 | O31: 0 | P31: 0 | Q31: 0 | R31: 0 | S31: 0 | T31: 0 | U31: 0 | V31: 0 | W31: 0 | X31: 0 | Y31: 0 | Z31: 0
A32: Desenvolvedor Sr. | B32: 9000 | C32: 1 | D32: 0 | E32: 1 | F32: 0 | G32: 0 | H32: 0 | I32: 0 | J32: 0 | K32: 0 | L32: 0 | M32: 0 | N32: 0 | O32: 0 | P32: 0 | Q32: 0 | R32: 0 | S32: 0 | T32: 0 | U32: 0 | V32: 0 | W32: 0 | X32: 0 | Y32: 0 | Z32: 0
A33: Desenvolvedor Pl. | B33: 5000 | C33: 4 | D33: 1 | E33: 1 | F33: 0 | G33: 0 | H33: 0 | I33: 0 | J33: 0 | K33: 0 | L33: 0 | M33: 0 | N33: 0 | O33: 0 | P33: 0 | Q33: 0 | R33: 0 | S33: 0 | T33: 0 | U33: 0 | V33: 0 | W33: 0 | X33: 0 | Y33: 0 | Z33: 0
A34: Desenvolvedor Jr. | B34: 3000 | C34: 5 | D34: 3 | E34: 1 | F34: 0 | G34: 0 | H34: 0 | I34: 0 | J34: 0 | K34: 0 | L34: 0 | M34: 0 | N34: 0 | O34: 0 | P34: 0 | Q34: 0 | R34: 0 | S34: 0 | T34: 0 | U34: 0 | V34: 0 | W34: 0 | X34: 0 | Y34: 0 | Z34: 0
A35: CPO | B35: 15000 | C35: 1 | D35: 0 | E35: 0 | F35: 0 | G35: 0 | H35: 0 | I35: 0 | J35: 0 | K35: 0 | L35: 0 | M35: 0 | N35: 0 | O35: 0 | P35: 0 | Q35: 0 | R35: 0 | S35: 0 | T35: 0 | U35: 0 | V35: 0 | W35: 0 | X35: 0 | Y35: 0 | Z35: 0
A36: Analista de Produtos Sr. | B36: 8000 | C36: 1 | D36: 0 | E36: 0 | F36: 0 | G36: 0 | H36: 0 | I36: 0 | J36: 0 | K36: 0 | L36: 0 | M36: 0 | N36: 0 | O36: 0 | P36: 0 | Q36: 0 | R36: 0 | S36: 0 | T36: 0 | U36: 0 | V36: 0 | W36: 0 | X36: 0 | Y36: 0 | Z36: 0
A37: Analista de Produtos Pl. | B37: 6000 | C37: 1 | D37: 0 | E37: 1 | F37: 0 | G37: 0 | H37: 0 | I37: 0 | J37: 0 | K37: 0 | L37: 0 | M37: 0 | N37: 0 | O37: 0 | P37: 0 | Q37: 0 | R37: 0 | S37: 0 | T37: 0 | U37: 0 | V37: 0 | W37: 0 | X37: 0 | Y37: 0 | Z37: 0
A38: Analista de Produtos Jr. | B38: 3500 | C38: 0 | D38: 0 | E38: 0 | F38: 0 | G38: 0 | H38: 0 | I38: 0 | J38: 0 | K38: 0 | L38: 0 | M38: 0 | N38: 0 | O38: 0 | P38: 0 | Q38: 0 | R38: 0 | S38: 0 | T38: 0 | U38: 0 | V38: 0 | W38: 0 | X38: 0 | Y38: 0 | Z38: 0
A39: HCs novos | B39: - | C39: =SUM(C31:C38) -> 14 | D39: =SUM(D31:D38) -> 4 | E39: =SUM(E31:E38) -> 4 | F39: =SUM(F31:F38) -> 0 | G39: =SUM(G31:G38) -> 0 | H39: =SUM(H31:H38) -> 0 | I39: =SUM(I31:I38) -> 0 | J39: =SUM(J31:J38) -> 0 | ... Z39: =SUM(Z31:Z38) -> 0
A40: HCs Acumulados | B40: - | C40: =C39 -> 14 | D40: =D39+C40 -> 18 | E40: =E39+D40 -> 22 | F40: =F39+E40 -> 22 | G40: =G39+F40 -> 22 | H40: =H39+G40 -> 22 | I40: =I39+H40 -> 22 | J40: =J39+I40 -> 22 | K40: =K39+J40 -> 22 | ... Z40: =Z39+Y40 -> 22
A41: Salários novos | B41: - | C41: =($B$31*C31)+($B$32*C32)+($B$33*C33)+($B$34*C34)+($B$35*C35)+($B$36*C36)+($B$37*C37)+($B$38*C38) -> 88000 | D41: =($B$31*D31)+($B$32*D32)+($B$33*D33)+($B$34*D34)+($B$35*D35)+($B$36*D36)+($B$37*D37)+($B$38*D38) -> 14000 | E41: =($B$31*E31)+($B$32*E32)+($B$33*E33)+($B$34*E34)+($B$35*E35)+($B$36*E36)+($B$37*E37)+($B$38*E38) -> 23000 | F41: =($B$31*F31)+($B$32*F32)+($B$33*F33)+($B$34*F34)+($B$35*F35)+($B$36*F36)+($B$37*F37)+($B$38*F38) -> 0 | G41: =($B$31*G31)+($B$32*G32)+($B$33*G33)+($B$34*G34)+($B$35*G35)+($B$36*G36)+($B$37*G37)+($B$38*G38) -> 0 | H41: =($B$31*H31)+($B$32*H32)+($B$33*H33)+($B$34*H34)+($B$35*H35)+($B$36*H36)+($B$37*H37)+($B$38*H38) -> 0 | I41: =($B$31*I31)+($B$32*I32)+($B$33*I33)+($B$34*I34)+($B$35*I35)+($B$36*I36)+($B$37*I37)+($B$38*I38) -> 0 | J41: =($B$31*J31)+($B$32*J32)+($B$33*J33)+($B$34*J34)+($B$35*J35)+($B$36*J36)+($B$37*J37)+($B$38*J38) -> 0 | ... Z41: =($B$31*Z31)+($B$32*Z32)+($B$33*Z33)+($B$34*Z34)+($B$35*Z35)+($B$36*Z36)+($B$37*Z37)+($B$38*Z38) -> 0
A42: Salários acumulados | B42: - | C42: =C41 -> 88000 | D42: =C42+D41 -> 102000 | E42: =D42+E41 -> 125000 | F42: =E42+F41 -> 125000 | G42: =F42+G41 -> 125000 | H42: =G42+H41 -> 125000 | I42: =H42+I41 -> 125000 | J42: =I42+J41 -> 125000 | K42: =J42+K41 -> 125000 | ... Z42: =Y42+Z41 -> 125000
A44: Marketing e Vendas | B44: Salário | C44: Mês 1 | D44: Mês 2 | E44: Mês 3 | F44: Mês 4 | G44: Mês 5 | H44: Mês 6 | I44: Mês 7 | J44: Mês 8 | K44: Mês 9 | L44: Mês 10 | M44: Mês 11 | N44: Mês 12 | O44: Mês 13 | P44: Mês 14 | Q44: Mês 15 | R44: Mês 16 | S44: Mês 17 | T44: Mês 18 | U44: Mês 19 | V44: Mês 20 | W44: Mês 21 | X44: Mês 22 | Y44: Mês 23 | Z44: Mês 24
...
